BEGIN:VCALENDAR
VERSION:2.0
PRODID:-//Grace Church, Scarborough - ECPv6.15.17.1//NONSGML v1.0//EN
CALSCALE:GREGORIAN
METHOD:PUBLISH
X-ORIGINAL-URL:https://gracechurchscarborough.com
X-WR-CALDESC:Events for Grace Church, Scarborough
REFRESH-INTERVAL;VALUE=DURATION:PT1H
X-Robots-Tag:noindex
X-PUBLISHED-TTL:PT1H
BEGIN:VTIMEZONE
TZID:America/Toronto
BEGIN:DAYLIGHT
TZOFFSETFROM:-0500
TZOFFSETTO:-0400
TZNAME:EDT
DTSTART:20250309T070000
END:DAYLIGHT
BEGIN:STANDARD
TZOFFSETFROM:-0400
TZOFFSETTO:-0500
TZNAME:EST
DTSTART:20251102T060000
END:STANDARD
BEGIN:DAYLIGHT
TZOFFSETFROM:-0500
TZOFFSETTO:-0400
TZNAME:EDT
DTSTART:20260308T070000
END:DAYLIGHT
BEGIN:STANDARD
TZOFFSETFROM:-0400
TZOFFSETTO:-0500
TZNAME:EST
DTSTART:20261101T060000
END:STANDARD
BEGIN:DAYLIGHT
TZOFFSETFROM:-0500
TZOFFSETTO:-0400
TZNAME:EDT
DTSTART:20270314T070000
END:DAYLIGHT
BEGIN:STANDARD
TZOFFSETFROM:-0400
TZOFFSETTO:-0500
TZNAME:EST
DTSTART:20271107T060000
END:STANDARD
END:VTIMEZONE
BEGIN:VEVENT
DTSTART;TZID=America/Toronto:20260301T100000
DTEND;TZID=America/Toronto:20260301T113000
DTSTAMP:20260421T072818
CREATED:20250315T221318Z
LAST-MODIFIED:20260313T005310Z
UID:10000674-1772359200-1772364600@gracechurchscarborough.com
SUMMARY:Sunday's Holy Eucharist Service
DESCRIPTION:At 10 a.m.\, the community gathers in our main worship space for an engaging service of Holy Eucharist\, with a variety of traditional and contemporary musical and liturgical expressions. The service follows the Book of Alternative Services.
URL:https://gracechurchscarborough.com/event/contemporary-communion-service/2026-03-01/
LOCATION:Grace Church\, Scarborough\, 700 Kennedy Road\, Scarborough\, ON\, M1K 2B5\, Canada
CATEGORIES:Sunday Morning Services
ATTACH;FMTTYPE=image/jpeg:https://gracechurchscarborough.com/wp-content/uploads/2025/03/DSC_4580.jpg
ORGANIZER;CN="Grace Church Scarborough":MAILTO:office@gracechurchscarborough.com
END:VEVENT
BEGIN:VEVENT
DTSTART;TZID=America/Toronto:20260308T100000
DTEND;TZID=America/Toronto:20260308T113000
DTSTAMP:20260421T072818
CREATED:20250315T221318Z
LAST-MODIFIED:20260313T005310Z
UID:10000681-1772964000-1772969400@gracechurchscarborough.com
SUMMARY:Sunday's Holy Eucharist Service
DESCRIPTION:At 10 a.m.\, the community gathers in our main worship space for an engaging service of Holy Eucharist\, with a variety of traditional and contemporary musical and liturgical expressions. The service follows the Book of Alternative Services.
URL:https://gracechurchscarborough.com/event/contemporary-communion-service/2026-03-08/
LOCATION:Grace Church\, Scarborough\, 700 Kennedy Road\, Scarborough\, ON\, M1K 2B5\, Canada
CATEGORIES:Sunday Morning Services
ATTACH;FMTTYPE=image/jpeg:https://gracechurchscarborough.com/wp-content/uploads/2025/03/DSC_4580.jpg
ORGANIZER;CN="Grace Church Scarborough":MAILTO:office@gracechurchscarborough.com
END:VEVENT
BEGIN:VEVENT
DTSTART;TZID=America/Toronto:20260315T100000
DTEND;TZID=America/Toronto:20260315T113000
DTSTAMP:20260421T072818
CREATED:20250315T221318Z
LAST-MODIFIED:20260313T005310Z
UID:10000688-1773568800-1773574200@gracechurchscarborough.com
SUMMARY:Sunday's Holy Eucharist Service
DESCRIPTION:At 10 a.m.\, the community gathers in our main worship space for an engaging service of Holy Eucharist\, with a variety of traditional and contemporary musical and liturgical expressions. The service follows the Book of Alternative Services.
URL:https://gracechurchscarborough.com/event/contemporary-communion-service/2026-03-15/
LOCATION:Grace Church\, Scarborough\, 700 Kennedy Road\, Scarborough\, ON\, M1K 2B5\, Canada
CATEGORIES:Sunday Morning Services
ATTACH;FMTTYPE=image/jpeg:https://gracechurchscarborough.com/wp-content/uploads/2025/03/DSC_4580.jpg
ORGANIZER;CN="Grace Church Scarborough":MAILTO:office@gracechurchscarborough.com
END:VEVENT
BEGIN:VEVENT
DTSTART;TZID=America/Toronto:20260322T100000
DTEND;TZID=America/Toronto:20260322T113000
DTSTAMP:20260421T072818
CREATED:20250315T221318Z
LAST-MODIFIED:20260313T005310Z
UID:10000691-1774173600-1774179000@gracechurchscarborough.com
SUMMARY:Sunday's Holy Eucharist Service
DESCRIPTION:At 10 a.m.\, the community gathers in our main worship space for an engaging service of Holy Eucharist\, with a variety of traditional and contemporary musical and liturgical expressions. The service follows the Book of Alternative Services.
URL:https://gracechurchscarborough.com/event/contemporary-communion-service/2026-03-22/
LOCATION:Grace Church\, Scarborough\, 700 Kennedy Road\, Scarborough\, ON\, M1K 2B5\, Canada
CATEGORIES:Sunday Morning Services
ATTACH;FMTTYPE=image/jpeg:https://gracechurchscarborough.com/wp-content/uploads/2025/03/DSC_4580.jpg
ORGANIZER;CN="Grace Church Scarborough":MAILTO:office@gracechurchscarborough.com
END:VEVENT
END:VCALENDAR