BEGIN:VCALENDAR
VERSION:2.0
PRODID:-//Grace Church, Scarborough - ECPv6.15.17.1//NONSGML v1.0//EN
CALSCALE:GREGORIAN
METHOD:PUBLISH
X-WR-CALNAME:Grace Church, Scarborough
X-ORIGINAL-URL:https://gracechurchscarborough.com
X-WR-CALDESC:Events for Grace Church, Scarborough
REFRESH-INTERVAL;VALUE=DURATION:PT1H
X-Robots-Tag:noindex
X-PUBLISHED-TTL:PT1H
BEGIN:VTIMEZONE
TZID:America/Toronto
BEGIN:DAYLIGHT
TZOFFSETFROM:-0500
TZOFFSETTO:-0400
TZNAME:EDT
DTSTART:20240310T070000
END:DAYLIGHT
BEGIN:STANDARD
TZOFFSETFROM:-0400
TZOFFSETTO:-0500
TZNAME:EST
DTSTART:20241103T060000
END:STANDARD
BEGIN:DAYLIGHT
TZOFFSETFROM:-0500
TZOFFSETTO:-0400
TZNAME:EDT
DTSTART:20250309T070000
END:DAYLIGHT
BEGIN:STANDARD
TZOFFSETFROM:-0400
TZOFFSETTO:-0500
TZNAME:EST
DTSTART:20251102T060000
END:STANDARD
BEGIN:DAYLIGHT
TZOFFSETFROM:-0500
TZOFFSETTO:-0400
TZNAME:EDT
DTSTART:20260308T070000
END:DAYLIGHT
BEGIN:STANDARD
TZOFFSETFROM:-0400
TZOFFSETTO:-0500
TZNAME:EST
DTSTART:20261101T060000
END:STANDARD
END:VTIMEZONE
BEGIN:VEVENT
DTSTART;TZID=America/Toronto:20250504T100000
DTEND;TZID=America/Toronto:20250504T113000
DTSTAMP:20260423T124909
CREATED:20250315T221318Z
LAST-MODIFIED:20260313T005310Z
UID:10000373-1746352800-1746358200@gracechurchscarborough.com
SUMMARY:Sunday's Holy Eucharist Service
DESCRIPTION:At 10 a.m.\, the community gathers in our main worship space for an engaging service of Holy Eucharist\, with a variety of traditional and contemporary musical and liturgical expressions. The service follows the Book of Alternative Services.
URL:https://gracechurchscarborough.com/event/contemporary-communion-service/2025-05-04/
LOCATION:Grace Church\, Scarborough\, 700 Kennedy Road\, Scarborough\, ON\, M1K 2B5\, Canada
CATEGORIES:Sunday Morning Services
ATTACH;FMTTYPE=image/jpeg:https://gracechurchscarborough.com/wp-content/uploads/2025/03/DSC_4580.jpg
ORGANIZER;CN="Grace Church Scarborough":MAILTO:office@gracechurchscarborough.com
END:VEVENT
BEGIN:VEVENT
DTSTART;TZID=America/Toronto:20250507T110000
DTEND;TZID=America/Toronto:20250507T130000
DTSTAMP:20260423T124909
CREATED:20250315T215909Z
LAST-MODIFIED:20260313T011542Z
UID:10000070-1746615600-1746622800@gracechurchscarborough.com
SUMMARY:Mid-Week Holy Eucharist Service and Bible Study
DESCRIPTION:Refresh your spirit mid-week by joining in this a small\, prayerful communion service\, held in our side chapel\, using the Book of Alternative Services. \nJoin us for Bible Study following the service.
URL:https://gracechurchscarborough.com/event/mid-week-communion-service-and-bible-study/2025-05-07/
LOCATION:Grace Church\, Scarborough\, 700 Kennedy Road\, Scarborough\, ON\, M1K 2B5\, Canada
CATEGORIES:Wednesday Morning Services
ATTACH;FMTTYPE=image/jpeg:https://gracechurchscarborough.com/wp-content/uploads/2025/03/DSC5837.jpg
ORGANIZER;CN="Grace Church Scarborough":MAILTO:office@gracechurchscarborough.com
END:VEVENT
BEGIN:VEVENT
DTSTART;TZID=America/Toronto:20250510T120000
DTEND;TZID=America/Toronto:20250510T150000
DTSTAMP:20260423T124909
CREATED:20250315T214914Z
LAST-MODIFIED:20250407T160058Z
UID:10000003-1746878400-1746889200@gracechurchscarborough.com
SUMMARY:Community Lunch
DESCRIPTION:You’re Invited to Our Community Lunch! \nJoin us every second Saturday of the month at 12:00 PM for monthly Community Lunch at Grace Church!   \nWhether you’re a long-time neighbour or it’s your first time visiting\, there’s a place for you at our table. Come enjoy a hot\, delicious meal and good conversation in a relaxed and welcoming space. \nNo cost\, no registration—just come as you are.\nWe’d love to see you there!\nDonations are welcome! \n📍 Grace Church – 700 Kennedy Road\n🕛 Monthly\, every 2nd Saturday\, from 12-1pm \nAll are welcome!
URL:https://gracechurchscarborough.com/event/community-lunch/2025-05-10/
LOCATION:Grace Church\, Scarborough\, 700 Kennedy Road\, Scarborough\, ON\, M1K 2B5\, Canada
ATTACH;FMTTYPE=image/jpeg:https://gracechurchscarborough.com/wp-content/uploads/2025/03/DSC_4609.jpg
END:VEVENT
BEGIN:VEVENT
DTSTART;TZID=America/Toronto:20250511T100000
DTEND;TZID=America/Toronto:20250511T113000
DTSTAMP:20260423T124909
CREATED:20250315T221318Z
LAST-MODIFIED:20260313T005310Z
UID:10000380-1746957600-1746963000@gracechurchscarborough.com
SUMMARY:Sunday's Holy Eucharist Service
DESCRIPTION:At 10 a.m.\, the community gathers in our main worship space for an engaging service of Holy Eucharist\, with a variety of traditional and contemporary musical and liturgical expressions. The service follows the Book of Alternative Services.
URL:https://gracechurchscarborough.com/event/contemporary-communion-service/2025-05-11/
LOCATION:Grace Church\, Scarborough\, 700 Kennedy Road\, Scarborough\, ON\, M1K 2B5\, Canada
CATEGORIES:Sunday Morning Services
ATTACH;FMTTYPE=image/jpeg:https://gracechurchscarborough.com/wp-content/uploads/2025/03/DSC_4580.jpg
ORGANIZER;CN="Grace Church Scarborough":MAILTO:office@gracechurchscarborough.com
END:VEVENT
BEGIN:VEVENT
DTSTART;TZID=America/Toronto:20250514T110000
DTEND;TZID=America/Toronto:20250514T130000
DTSTAMP:20260423T124909
CREATED:20250315T215909Z
LAST-MODIFIED:20260313T011542Z
UID:10000071-1747220400-1747227600@gracechurchscarborough.com
SUMMARY:Mid-Week Holy Eucharist Service and Bible Study
DESCRIPTION:Refresh your spirit mid-week by joining in this a small\, prayerful communion service\, held in our side chapel\, using the Book of Alternative Services. \nJoin us for Bible Study following the service.
URL:https://gracechurchscarborough.com/event/mid-week-communion-service-and-bible-study/2025-05-14/
LOCATION:Grace Church\, Scarborough\, 700 Kennedy Road\, Scarborough\, ON\, M1K 2B5\, Canada
CATEGORIES:Wednesday Morning Services
ATTACH;FMTTYPE=image/jpeg:https://gracechurchscarborough.com/wp-content/uploads/2025/03/DSC5837.jpg
ORGANIZER;CN="Grace Church Scarborough":MAILTO:office@gracechurchscarborough.com
END:VEVENT
BEGIN:VEVENT
DTSTART;TZID=America/Toronto:20250518T100000
DTEND;TZID=America/Toronto:20250518T113000
DTSTAMP:20260423T124909
CREATED:20250315T221318Z
LAST-MODIFIED:20260313T005310Z
UID:10000387-1747562400-1747567800@gracechurchscarborough.com
SUMMARY:Sunday's Holy Eucharist Service
DESCRIPTION:At 10 a.m.\, the community gathers in our main worship space for an engaging service of Holy Eucharist\, with a variety of traditional and contemporary musical and liturgical expressions. The service follows the Book of Alternative Services.
URL:https://gracechurchscarborough.com/event/contemporary-communion-service/2025-05-18/
LOCATION:Grace Church\, Scarborough\, 700 Kennedy Road\, Scarborough\, ON\, M1K 2B5\, Canada
CATEGORIES:Sunday Morning Services
ATTACH;FMTTYPE=image/jpeg:https://gracechurchscarborough.com/wp-content/uploads/2025/03/DSC_4580.jpg
ORGANIZER;CN="Grace Church Scarborough":MAILTO:office@gracechurchscarborough.com
END:VEVENT
BEGIN:VEVENT
DTSTART;TZID=America/Toronto:20250521T110000
DTEND;TZID=America/Toronto:20250521T130000
DTSTAMP:20260423T124909
CREATED:20250315T215909Z
LAST-MODIFIED:20260313T011542Z
UID:10000072-1747825200-1747832400@gracechurchscarborough.com
SUMMARY:Mid-Week Holy Eucharist Service and Bible Study
DESCRIPTION:Refresh your spirit mid-week by joining in this a small\, prayerful communion service\, held in our side chapel\, using the Book of Alternative Services. \nJoin us for Bible Study following the service.
URL:https://gracechurchscarborough.com/event/mid-week-communion-service-and-bible-study/2025-05-21/
LOCATION:Grace Church\, Scarborough\, 700 Kennedy Road\, Scarborough\, ON\, M1K 2B5\, Canada
CATEGORIES:Wednesday Morning Services
ATTACH;FMTTYPE=image/jpeg:https://gracechurchscarborough.com/wp-content/uploads/2025/03/DSC5837.jpg
ORGANIZER;CN="Grace Church Scarborough":MAILTO:office@gracechurchscarborough.com
END:VEVENT
BEGIN:VEVENT
DTSTART;TZID=America/Toronto:20250525T100000
DTEND;TZID=America/Toronto:20250525T113000
DTSTAMP:20260423T124909
CREATED:20250315T221318Z
LAST-MODIFIED:20260313T005310Z
UID:10000394-1748167200-1748172600@gracechurchscarborough.com
SUMMARY:Sunday's Holy Eucharist Service
DESCRIPTION:At 10 a.m.\, the community gathers in our main worship space for an engaging service of Holy Eucharist\, with a variety of traditional and contemporary musical and liturgical expressions. The service follows the Book of Alternative Services.
URL:https://gracechurchscarborough.com/event/contemporary-communion-service/2025-05-25/
LOCATION:Grace Church\, Scarborough\, 700 Kennedy Road\, Scarborough\, ON\, M1K 2B5\, Canada
CATEGORIES:Sunday Morning Services
ATTACH;FMTTYPE=image/jpeg:https://gracechurchscarborough.com/wp-content/uploads/2025/03/DSC_4580.jpg
ORGANIZER;CN="Grace Church Scarborough":MAILTO:office@gracechurchscarborough.com
END:VEVENT
BEGIN:VEVENT
DTSTART;TZID=America/Toronto:20250528T110000
DTEND;TZID=America/Toronto:20250528T130000
DTSTAMP:20260423T124909
CREATED:20250315T215909Z
LAST-MODIFIED:20260313T011542Z
UID:10000073-1748430000-1748437200@gracechurchscarborough.com
SUMMARY:Mid-Week Holy Eucharist Service and Bible Study
DESCRIPTION:Refresh your spirit mid-week by joining in this a small\, prayerful communion service\, held in our side chapel\, using the Book of Alternative Services. \nJoin us for Bible Study following the service.
URL:https://gracechurchscarborough.com/event/mid-week-communion-service-and-bible-study/2025-05-28/
LOCATION:Grace Church\, Scarborough\, 700 Kennedy Road\, Scarborough\, ON\, M1K 2B5\, Canada
CATEGORIES:Wednesday Morning Services
ATTACH;FMTTYPE=image/jpeg:https://gracechurchscarborough.com/wp-content/uploads/2025/03/DSC5837.jpg
ORGANIZER;CN="Grace Church Scarborough":MAILTO:office@gracechurchscarborough.com
END:VEVENT
END:VCALENDAR