BEGIN:VCALENDAR
VERSION:2.0
PRODID:-//Grace Church, Scarborough - ECPv6.15.17.1//NONSGML v1.0//EN
CALSCALE:GREGORIAN
METHOD:PUBLISH
X-WR-CALNAME:Grace Church, Scarborough
X-ORIGINAL-URL:https://gracechurchscarborough.com
X-WR-CALDESC:Events for Grace Church, Scarborough
REFRESH-INTERVAL;VALUE=DURATION:PT1H
X-Robots-Tag:noindex
X-PUBLISHED-TTL:PT1H
BEGIN:VTIMEZONE
TZID:America/Toronto
BEGIN:DAYLIGHT
TZOFFSETFROM:-0500
TZOFFSETTO:-0400
TZNAME:EDT
DTSTART:20240310T070000
END:DAYLIGHT
BEGIN:STANDARD
TZOFFSETFROM:-0400
TZOFFSETTO:-0500
TZNAME:EST
DTSTART:20241103T060000
END:STANDARD
BEGIN:DAYLIGHT
TZOFFSETFROM:-0500
TZOFFSETTO:-0400
TZNAME:EDT
DTSTART:20250309T070000
END:DAYLIGHT
BEGIN:STANDARD
TZOFFSETFROM:-0400
TZOFFSETTO:-0500
TZNAME:EST
DTSTART:20251102T060000
END:STANDARD
BEGIN:DAYLIGHT
TZOFFSETFROM:-0500
TZOFFSETTO:-0400
TZNAME:EDT
DTSTART:20260308T070000
END:DAYLIGHT
BEGIN:STANDARD
TZOFFSETFROM:-0400
TZOFFSETTO:-0500
TZNAME:EST
DTSTART:20261101T060000
END:STANDARD
END:VTIMEZONE
BEGIN:VEVENT
DTSTART;TZID=America/Toronto:20250903T110000
DTEND;TZID=America/Toronto:20250903T130000
DTSTAMP:20260423T052537
CREATED:20250315T215909Z
LAST-MODIFIED:20260313T011542Z
UID:10000087-1756897200-1756904400@gracechurchscarborough.com
SUMMARY:Mid-Week Holy Eucharist Service and Bible Study
DESCRIPTION:Refresh your spirit mid-week by joining in this a small\, prayerful communion service\, held in our side chapel\, using the Book of Alternative Services. \nJoin us for Bible Study following the service.
URL:https://gracechurchscarborough.com/event/mid-week-communion-service-and-bible-study/2025-09-03/
LOCATION:Grace Church\, Scarborough\, 700 Kennedy Road\, Scarborough\, ON\, M1K 2B5\, Canada
CATEGORIES:Wednesday Morning Services
ATTACH;FMTTYPE=image/jpeg:https://gracechurchscarborough.com/wp-content/uploads/2025/03/DSC5837.jpg
ORGANIZER;CN="Grace Church Scarborough":MAILTO:office@gracechurchscarborough.com
END:VEVENT
BEGIN:VEVENT
DTSTART;TZID=America/Toronto:20250907T100000
DTEND;TZID=America/Toronto:20250907T113000
DTSTAMP:20260423T052537
CREATED:20250315T221318Z
LAST-MODIFIED:20260313T005310Z
UID:10000499-1757239200-1757244600@gracechurchscarborough.com
SUMMARY:Sunday's Holy Eucharist Service
DESCRIPTION:At 10 a.m.\, the community gathers in our main worship space for an engaging service of Holy Eucharist\, with a variety of traditional and contemporary musical and liturgical expressions. The service follows the Book of Alternative Services.
URL:https://gracechurchscarborough.com/event/contemporary-communion-service/2025-09-07/
LOCATION:Grace Church\, Scarborough\, 700 Kennedy Road\, Scarborough\, ON\, M1K 2B5\, Canada
CATEGORIES:Sunday Morning Services
ATTACH;FMTTYPE=image/jpeg:https://gracechurchscarborough.com/wp-content/uploads/2025/03/DSC_4580.jpg
ORGANIZER;CN="Grace Church Scarborough":MAILTO:office@gracechurchscarborough.com
END:VEVENT
BEGIN:VEVENT
DTSTART;TZID=America/Toronto:20250910T110000
DTEND;TZID=America/Toronto:20250910T130000
DTSTAMP:20260423T052537
CREATED:20250315T215909Z
LAST-MODIFIED:20260313T011542Z
UID:10000088-1757502000-1757509200@gracechurchscarborough.com
SUMMARY:Mid-Week Holy Eucharist Service and Bible Study
DESCRIPTION:Refresh your spirit mid-week by joining in this a small\, prayerful communion service\, held in our side chapel\, using the Book of Alternative Services. \nJoin us for Bible Study following the service.
URL:https://gracechurchscarborough.com/event/mid-week-communion-service-and-bible-study/2025-09-10/
LOCATION:Grace Church\, Scarborough\, 700 Kennedy Road\, Scarborough\, ON\, M1K 2B5\, Canada
CATEGORIES:Wednesday Morning Services
ATTACH;FMTTYPE=image/jpeg:https://gracechurchscarborough.com/wp-content/uploads/2025/03/DSC5837.jpg
ORGANIZER;CN="Grace Church Scarborough":MAILTO:office@gracechurchscarborough.com
END:VEVENT
BEGIN:VEVENT
DTSTART;TZID=America/Toronto:20250913T120000
DTEND;TZID=America/Toronto:20250913T150000
DTSTAMP:20260423T052537
CREATED:20250315T214914Z
LAST-MODIFIED:20250407T160058Z
UID:10000007-1757764800-1757775600@gracechurchscarborough.com
SUMMARY:Community Lunch
DESCRIPTION:You’re Invited to Our Community Lunch! \nJoin us every second Saturday of the month at 12:00 PM for monthly Community Lunch at Grace Church!   \nWhether you’re a long-time neighbour or it’s your first time visiting\, there’s a place for you at our table. Come enjoy a hot\, delicious meal and good conversation in a relaxed and welcoming space. \nNo cost\, no registration—just come as you are.\nWe’d love to see you there!\nDonations are welcome! \n📍 Grace Church – 700 Kennedy Road\n🕛 Monthly\, every 2nd Saturday\, from 12-1pm \nAll are welcome!
URL:https://gracechurchscarborough.com/event/community-lunch/2025-09-13/
LOCATION:Grace Church\, Scarborough\, 700 Kennedy Road\, Scarborough\, ON\, M1K 2B5\, Canada
ATTACH;FMTTYPE=image/jpeg:https://gracechurchscarborough.com/wp-content/uploads/2025/03/DSC_4609.jpg
END:VEVENT
BEGIN:VEVENT
DTSTART;TZID=America/Toronto:20250914T100000
DTEND;TZID=America/Toronto:20250914T113000
DTSTAMP:20260423T052537
CREATED:20250315T221318Z
LAST-MODIFIED:20260313T005310Z
UID:10000506-1757844000-1757849400@gracechurchscarborough.com
SUMMARY:Sunday's Holy Eucharist Service
DESCRIPTION:At 10 a.m.\, the community gathers in our main worship space for an engaging service of Holy Eucharist\, with a variety of traditional and contemporary musical and liturgical expressions. The service follows the Book of Alternative Services.
URL:https://gracechurchscarborough.com/event/contemporary-communion-service/2025-09-14/
LOCATION:Grace Church\, Scarborough\, 700 Kennedy Road\, Scarborough\, ON\, M1K 2B5\, Canada
CATEGORIES:Sunday Morning Services
ATTACH;FMTTYPE=image/jpeg:https://gracechurchscarborough.com/wp-content/uploads/2025/03/DSC_4580.jpg
ORGANIZER;CN="Grace Church Scarborough":MAILTO:office@gracechurchscarborough.com
END:VEVENT
BEGIN:VEVENT
DTSTART;TZID=America/Toronto:20250917T110000
DTEND;TZID=America/Toronto:20250917T130000
DTSTAMP:20260423T052537
CREATED:20250315T215909Z
LAST-MODIFIED:20260313T011542Z
UID:10000089-1758106800-1758114000@gracechurchscarborough.com
SUMMARY:Mid-Week Holy Eucharist Service and Bible Study
DESCRIPTION:Refresh your spirit mid-week by joining in this a small\, prayerful communion service\, held in our side chapel\, using the Book of Alternative Services. \nJoin us for Bible Study following the service.
URL:https://gracechurchscarborough.com/event/mid-week-communion-service-and-bible-study/2025-09-17/
LOCATION:Grace Church\, Scarborough\, 700 Kennedy Road\, Scarborough\, ON\, M1K 2B5\, Canada
CATEGORIES:Wednesday Morning Services
ATTACH;FMTTYPE=image/jpeg:https://gracechurchscarborough.com/wp-content/uploads/2025/03/DSC5837.jpg
ORGANIZER;CN="Grace Church Scarborough":MAILTO:office@gracechurchscarborough.com
END:VEVENT
BEGIN:VEVENT
DTSTART;TZID=America/Toronto:20250921T100000
DTEND;TZID=America/Toronto:20250921T113000
DTSTAMP:20260423T052537
CREATED:20250315T221318Z
LAST-MODIFIED:20260313T005310Z
UID:10000513-1758448800-1758454200@gracechurchscarborough.com
SUMMARY:Sunday's Holy Eucharist Service
DESCRIPTION:At 10 a.m.\, the community gathers in our main worship space for an engaging service of Holy Eucharist\, with a variety of traditional and contemporary musical and liturgical expressions. The service follows the Book of Alternative Services.
URL:https://gracechurchscarborough.com/event/contemporary-communion-service/2025-09-21/
LOCATION:Grace Church\, Scarborough\, 700 Kennedy Road\, Scarborough\, ON\, M1K 2B5\, Canada
CATEGORIES:Sunday Morning Services
ATTACH;FMTTYPE=image/jpeg:https://gracechurchscarborough.com/wp-content/uploads/2025/03/DSC_4580.jpg
ORGANIZER;CN="Grace Church Scarborough":MAILTO:office@gracechurchscarborough.com
END:VEVENT
BEGIN:VEVENT
DTSTART;TZID=America/Toronto:20250924T110000
DTEND;TZID=America/Toronto:20250924T130000
DTSTAMP:20260423T052537
CREATED:20250315T215909Z
LAST-MODIFIED:20260313T011542Z
UID:10000090-1758711600-1758718800@gracechurchscarborough.com
SUMMARY:Mid-Week Holy Eucharist Service and Bible Study
DESCRIPTION:Refresh your spirit mid-week by joining in this a small\, prayerful communion service\, held in our side chapel\, using the Book of Alternative Services. \nJoin us for Bible Study following the service.
URL:https://gracechurchscarborough.com/event/mid-week-communion-service-and-bible-study/2025-09-24/
LOCATION:Grace Church\, Scarborough\, 700 Kennedy Road\, Scarborough\, ON\, M1K 2B5\, Canada
CATEGORIES:Wednesday Morning Services
ATTACH;FMTTYPE=image/jpeg:https://gracechurchscarborough.com/wp-content/uploads/2025/03/DSC5837.jpg
ORGANIZER;CN="Grace Church Scarborough":MAILTO:office@gracechurchscarborough.com
END:VEVENT
BEGIN:VEVENT
DTSTART;TZID=America/Toronto:20250928T100000
DTEND;TZID=America/Toronto:20250928T113000
DTSTAMP:20260423T052537
CREATED:20250315T221318Z
LAST-MODIFIED:20260313T005310Z
UID:10000520-1759053600-1759059000@gracechurchscarborough.com
SUMMARY:Sunday's Holy Eucharist Service
DESCRIPTION:At 10 a.m.\, the community gathers in our main worship space for an engaging service of Holy Eucharist\, with a variety of traditional and contemporary musical and liturgical expressions. The service follows the Book of Alternative Services.
URL:https://gracechurchscarborough.com/event/contemporary-communion-service/2025-09-28/
LOCATION:Grace Church\, Scarborough\, 700 Kennedy Road\, Scarborough\, ON\, M1K 2B5\, Canada
CATEGORIES:Sunday Morning Services
ATTACH;FMTTYPE=image/jpeg:https://gracechurchscarborough.com/wp-content/uploads/2025/03/DSC_4580.jpg
ORGANIZER;CN="Grace Church Scarborough":MAILTO:office@gracechurchscarborough.com
END:VEVENT
END:VCALENDAR