BEGIN:VCALENDAR
VERSION:2.0
PRODID:-//Grace Church, Scarborough - ECPv6.15.17.1//NONSGML v1.0//EN
CALSCALE:GREGORIAN
METHOD:PUBLISH
X-ORIGINAL-URL:https://gracechurchscarborough.com
X-WR-CALDESC:Events for Grace Church, Scarborough
REFRESH-INTERVAL;VALUE=DURATION:PT1H
X-Robots-Tag:noindex
X-PUBLISHED-TTL:PT1H
BEGIN:VTIMEZONE
TZID:America/Toronto
BEGIN:DAYLIGHT
TZOFFSETFROM:-0500
TZOFFSETTO:-0400
TZNAME:EDT
DTSTART:20240310T070000
END:DAYLIGHT
BEGIN:STANDARD
TZOFFSETFROM:-0400
TZOFFSETTO:-0500
TZNAME:EST
DTSTART:20241103T060000
END:STANDARD
BEGIN:DAYLIGHT
TZOFFSETFROM:-0500
TZOFFSETTO:-0400
TZNAME:EDT
DTSTART:20250309T070000
END:DAYLIGHT
BEGIN:STANDARD
TZOFFSETFROM:-0400
TZOFFSETTO:-0500
TZNAME:EST
DTSTART:20251102T060000
END:STANDARD
BEGIN:DAYLIGHT
TZOFFSETFROM:-0500
TZOFFSETTO:-0400
TZNAME:EDT
DTSTART:20260308T070000
END:DAYLIGHT
BEGIN:STANDARD
TZOFFSETFROM:-0400
TZOFFSETTO:-0500
TZNAME:EST
DTSTART:20261101T060000
END:STANDARD
END:VTIMEZONE
BEGIN:VEVENT
DTSTART;TZID=America/Toronto:20251001T110000
DTEND;TZID=America/Toronto:20251001T130000
DTSTAMP:20260419T104936
CREATED:20250315T215909Z
LAST-MODIFIED:20260313T011542Z
UID:10000091-1759316400-1759323600@gracechurchscarborough.com
SUMMARY:Mid-Week Holy Eucharist Service and Bible Study
DESCRIPTION:Refresh your spirit mid-week by joining in this a small\, prayerful communion service\, held in our side chapel\, using the Book of Alternative Services. \nJoin us for Bible Study following the service.
URL:https://gracechurchscarborough.com/event/mid-week-communion-service-and-bible-study/2025-10-01/
LOCATION:Grace Church\, Scarborough\, 700 Kennedy Road\, Scarborough\, ON\, M1K 2B5\, Canada
CATEGORIES:Wednesday Morning Services
ATTACH;FMTTYPE=image/jpeg:https://gracechurchscarborough.com/wp-content/uploads/2025/03/DSC5837.jpg
ORGANIZER;CN="Grace Church Scarborough":MAILTO:office@gracechurchscarborough.com
END:VEVENT
BEGIN:VEVENT
DTSTART;TZID=America/Toronto:20251005T100000
DTEND;TZID=America/Toronto:20251005T113000
DTSTAMP:20260419T104936
CREATED:20250315T221318Z
LAST-MODIFIED:20260313T005310Z
UID:10000527-1759658400-1759663800@gracechurchscarborough.com
SUMMARY:Sunday's Holy Eucharist Service
DESCRIPTION:At 10 a.m.\, the community gathers in our main worship space for an engaging service of Holy Eucharist\, with a variety of traditional and contemporary musical and liturgical expressions. The service follows the Book of Alternative Services.
URL:https://gracechurchscarborough.com/event/contemporary-communion-service/2025-10-05/
LOCATION:Grace Church\, Scarborough\, 700 Kennedy Road\, Scarborough\, ON\, M1K 2B5\, Canada
CATEGORIES:Sunday Morning Services
ATTACH;FMTTYPE=image/jpeg:https://gracechurchscarborough.com/wp-content/uploads/2025/03/DSC_4580.jpg
ORGANIZER;CN="Grace Church Scarborough":MAILTO:office@gracechurchscarborough.com
END:VEVENT
BEGIN:VEVENT
DTSTART;TZID=America/Toronto:20251008T110000
DTEND;TZID=America/Toronto:20251008T130000
DTSTAMP:20260419T104936
CREATED:20250315T215909Z
LAST-MODIFIED:20260313T011542Z
UID:10000092-1759921200-1759928400@gracechurchscarborough.com
SUMMARY:Mid-Week Holy Eucharist Service and Bible Study
DESCRIPTION:Refresh your spirit mid-week by joining in this a small\, prayerful communion service\, held in our side chapel\, using the Book of Alternative Services. \nJoin us for Bible Study following the service.
URL:https://gracechurchscarborough.com/event/mid-week-communion-service-and-bible-study/2025-10-08/
LOCATION:Grace Church\, Scarborough\, 700 Kennedy Road\, Scarborough\, ON\, M1K 2B5\, Canada
CATEGORIES:Wednesday Morning Services
ATTACH;FMTTYPE=image/jpeg:https://gracechurchscarborough.com/wp-content/uploads/2025/03/DSC5837.jpg
ORGANIZER;CN="Grace Church Scarborough":MAILTO:office@gracechurchscarborough.com
END:VEVENT
BEGIN:VEVENT
DTSTART;TZID=America/Toronto:20251011T120000
DTEND;TZID=America/Toronto:20251011T150000
DTSTAMP:20260419T104936
CREATED:20250315T214914Z
LAST-MODIFIED:20250407T160058Z
UID:10000008-1760184000-1760194800@gracechurchscarborough.com
SUMMARY:Community Lunch
DESCRIPTION:You’re Invited to Our Community Lunch! \nJoin us every second Saturday of the month at 12:00 PM for monthly Community Lunch at Grace Church!   \nWhether you’re a long-time neighbour or it’s your first time visiting\, there’s a place for you at our table. Come enjoy a hot\, delicious meal and good conversation in a relaxed and welcoming space. \nNo cost\, no registration—just come as you are.\nWe’d love to see you there!\nDonations are welcome! \n📍 Grace Church – 700 Kennedy Road\n🕛 Monthly\, every 2nd Saturday\, from 12-1pm \nAll are welcome!
URL:https://gracechurchscarborough.com/event/community-lunch/2025-10-11/
LOCATION:Grace Church\, Scarborough\, 700 Kennedy Road\, Scarborough\, ON\, M1K 2B5\, Canada
ATTACH;FMTTYPE=image/jpeg:https://gracechurchscarborough.com/wp-content/uploads/2025/03/DSC_4609.jpg
END:VEVENT
BEGIN:VEVENT
DTSTART;TZID=America/Toronto:20251012T100000
DTEND;TZID=America/Toronto:20251012T113000
DTSTAMP:20260419T104936
CREATED:20250315T221318Z
LAST-MODIFIED:20260313T005310Z
UID:10000534-1760263200-1760268600@gracechurchscarborough.com
SUMMARY:Sunday's Holy Eucharist Service
DESCRIPTION:At 10 a.m.\, the community gathers in our main worship space for an engaging service of Holy Eucharist\, with a variety of traditional and contemporary musical and liturgical expressions. The service follows the Book of Alternative Services.
URL:https://gracechurchscarborough.com/event/contemporary-communion-service/2025-10-12/
LOCATION:Grace Church\, Scarborough\, 700 Kennedy Road\, Scarborough\, ON\, M1K 2B5\, Canada
CATEGORIES:Sunday Morning Services
ATTACH;FMTTYPE=image/jpeg:https://gracechurchscarborough.com/wp-content/uploads/2025/03/DSC_4580.jpg
ORGANIZER;CN="Grace Church Scarborough":MAILTO:office@gracechurchscarborough.com
END:VEVENT
BEGIN:VEVENT
DTSTART;TZID=America/Toronto:20251015T110000
DTEND;TZID=America/Toronto:20251015T130000
DTSTAMP:20260419T104936
CREATED:20250315T215909Z
LAST-MODIFIED:20260313T011542Z
UID:10000093-1760526000-1760533200@gracechurchscarborough.com
SUMMARY:Mid-Week Holy Eucharist Service and Bible Study
DESCRIPTION:Refresh your spirit mid-week by joining in this a small\, prayerful communion service\, held in our side chapel\, using the Book of Alternative Services. \nJoin us for Bible Study following the service.
URL:https://gracechurchscarborough.com/event/mid-week-communion-service-and-bible-study/2025-10-15/
LOCATION:Grace Church\, Scarborough\, 700 Kennedy Road\, Scarborough\, ON\, M1K 2B5\, Canada
CATEGORIES:Wednesday Morning Services
ATTACH;FMTTYPE=image/jpeg:https://gracechurchscarborough.com/wp-content/uploads/2025/03/DSC5837.jpg
ORGANIZER;CN="Grace Church Scarborough":MAILTO:office@gracechurchscarborough.com
END:VEVENT
BEGIN:VEVENT
DTSTART;TZID=America/Toronto:20251019T100000
DTEND;TZID=America/Toronto:20251019T113000
DTSTAMP:20260419T104936
CREATED:20250315T221318Z
LAST-MODIFIED:20260313T005310Z
UID:10000541-1760868000-1760873400@gracechurchscarborough.com
SUMMARY:Sunday's Holy Eucharist Service
DESCRIPTION:At 10 a.m.\, the community gathers in our main worship space for an engaging service of Holy Eucharist\, with a variety of traditional and contemporary musical and liturgical expressions. The service follows the Book of Alternative Services.
URL:https://gracechurchscarborough.com/event/contemporary-communion-service/2025-10-19/
LOCATION:Grace Church\, Scarborough\, 700 Kennedy Road\, Scarborough\, ON\, M1K 2B5\, Canada
CATEGORIES:Sunday Morning Services
ATTACH;FMTTYPE=image/jpeg:https://gracechurchscarborough.com/wp-content/uploads/2025/03/DSC_4580.jpg
ORGANIZER;CN="Grace Church Scarborough":MAILTO:office@gracechurchscarborough.com
END:VEVENT
BEGIN:VEVENT
DTSTART;TZID=America/Toronto:20251022T110000
DTEND;TZID=America/Toronto:20251022T130000
DTSTAMP:20260419T104936
CREATED:20250315T215909Z
LAST-MODIFIED:20260313T011542Z
UID:10000094-1761130800-1761138000@gracechurchscarborough.com
SUMMARY:Mid-Week Holy Eucharist Service and Bible Study
DESCRIPTION:Refresh your spirit mid-week by joining in this a small\, prayerful communion service\, held in our side chapel\, using the Book of Alternative Services. \nJoin us for Bible Study following the service.
URL:https://gracechurchscarborough.com/event/mid-week-communion-service-and-bible-study/2025-10-22/
LOCATION:Grace Church\, Scarborough\, 700 Kennedy Road\, Scarborough\, ON\, M1K 2B5\, Canada
CATEGORIES:Wednesday Morning Services
ATTACH;FMTTYPE=image/jpeg:https://gracechurchscarborough.com/wp-content/uploads/2025/03/DSC5837.jpg
ORGANIZER;CN="Grace Church Scarborough":MAILTO:office@gracechurchscarborough.com
END:VEVENT
BEGIN:VEVENT
DTSTART;TZID=America/Toronto:20251026T100000
DTEND;TZID=America/Toronto:20251026T113000
DTSTAMP:20260419T104936
CREATED:20250315T221318Z
LAST-MODIFIED:20260313T005310Z
UID:10000548-1761472800-1761478200@gracechurchscarborough.com
SUMMARY:Sunday's Holy Eucharist Service
DESCRIPTION:At 10 a.m.\, the community gathers in our main worship space for an engaging service of Holy Eucharist\, with a variety of traditional and contemporary musical and liturgical expressions. The service follows the Book of Alternative Services.
URL:https://gracechurchscarborough.com/event/contemporary-communion-service/2025-10-26/
LOCATION:Grace Church\, Scarborough\, 700 Kennedy Road\, Scarborough\, ON\, M1K 2B5\, Canada
CATEGORIES:Sunday Morning Services
ATTACH;FMTTYPE=image/jpeg:https://gracechurchscarborough.com/wp-content/uploads/2025/03/DSC_4580.jpg
ORGANIZER;CN="Grace Church Scarborough":MAILTO:office@gracechurchscarborough.com
END:VEVENT
BEGIN:VEVENT
DTSTART;TZID=America/Toronto:20251029T110000
DTEND;TZID=America/Toronto:20251029T130000
DTSTAMP:20260419T104936
CREATED:20250315T215909Z
LAST-MODIFIED:20260313T011542Z
UID:10000095-1761735600-1761742800@gracechurchscarborough.com
SUMMARY:Mid-Week Holy Eucharist Service and Bible Study
DESCRIPTION:Refresh your spirit mid-week by joining in this a small\, prayerful communion service\, held in our side chapel\, using the Book of Alternative Services. \nJoin us for Bible Study following the service.
URL:https://gracechurchscarborough.com/event/mid-week-communion-service-and-bible-study/2025-10-29/
LOCATION:Grace Church\, Scarborough\, 700 Kennedy Road\, Scarborough\, ON\, M1K 2B5\, Canada
CATEGORIES:Wednesday Morning Services
ATTACH;FMTTYPE=image/jpeg:https://gracechurchscarborough.com/wp-content/uploads/2025/03/DSC5837.jpg
ORGANIZER;CN="Grace Church Scarborough":MAILTO:office@gracechurchscarborough.com
END:VEVENT
END:VCALENDAR