BEGIN:VCALENDAR
VERSION:2.0
PRODID:-//Grace Church, Scarborough - ECPv6.15.17.1//NONSGML v1.0//EN
CALSCALE:GREGORIAN
METHOD:PUBLISH
X-ORIGINAL-URL:https://gracechurchscarborough.com
X-WR-CALDESC:Events for Grace Church, Scarborough
REFRESH-INTERVAL;VALUE=DURATION:PT1H
X-Robots-Tag:noindex
X-PUBLISHED-TTL:PT1H
BEGIN:VTIMEZONE
TZID:America/Toronto
BEGIN:DAYLIGHT
TZOFFSETFROM:-0500
TZOFFSETTO:-0400
TZNAME:EDT
DTSTART:20240310T070000
END:DAYLIGHT
BEGIN:STANDARD
TZOFFSETFROM:-0400
TZOFFSETTO:-0500
TZNAME:EST
DTSTART:20241103T060000
END:STANDARD
BEGIN:DAYLIGHT
TZOFFSETFROM:-0500
TZOFFSETTO:-0400
TZNAME:EDT
DTSTART:20250309T070000
END:DAYLIGHT
BEGIN:STANDARD
TZOFFSETFROM:-0400
TZOFFSETTO:-0500
TZNAME:EST
DTSTART:20251102T060000
END:STANDARD
BEGIN:DAYLIGHT
TZOFFSETFROM:-0500
TZOFFSETTO:-0400
TZNAME:EDT
DTSTART:20260308T070000
END:DAYLIGHT
BEGIN:STANDARD
TZOFFSETFROM:-0400
TZOFFSETTO:-0500
TZNAME:EST
DTSTART:20261101T060000
END:STANDARD
END:VTIMEZONE
BEGIN:VEVENT
DTSTART;TZID=America/Toronto:20251102T100000
DTEND;TZID=America/Toronto:20251102T113000
DTSTAMP:20260419T094251
CREATED:20250315T221318Z
LAST-MODIFIED:20260313T005310Z
UID:10000555-1762077600-1762083000@gracechurchscarborough.com
SUMMARY:Sunday's Holy Eucharist Service
DESCRIPTION:At 10 a.m.\, the community gathers in our main worship space for an engaging service of Holy Eucharist\, with a variety of traditional and contemporary musical and liturgical expressions. The service follows the Book of Alternative Services.
URL:https://gracechurchscarborough.com/event/contemporary-communion-service/2025-11-02/
LOCATION:Grace Church\, Scarborough\, 700 Kennedy Road\, Scarborough\, ON\, M1K 2B5\, Canada
CATEGORIES:Sunday Morning Services
ATTACH;FMTTYPE=image/jpeg:https://gracechurchscarborough.com/wp-content/uploads/2025/03/DSC_4580.jpg
ORGANIZER;CN="Grace Church Scarborough":MAILTO:office@gracechurchscarborough.com
END:VEVENT
BEGIN:VEVENT
DTSTART;TZID=America/Toronto:20251105T110000
DTEND;TZID=America/Toronto:20251105T130000
DTSTAMP:20260419T094251
CREATED:20250315T215909Z
LAST-MODIFIED:20260313T011542Z
UID:10000096-1762340400-1762347600@gracechurchscarborough.com
SUMMARY:Mid-Week Holy Eucharist Service and Bible Study
DESCRIPTION:Refresh your spirit mid-week by joining in this a small\, prayerful communion service\, held in our side chapel\, using the Book of Alternative Services. \nJoin us for Bible Study following the service.
URL:https://gracechurchscarborough.com/event/mid-week-communion-service-and-bible-study/2025-11-05/
LOCATION:Grace Church\, Scarborough\, 700 Kennedy Road\, Scarborough\, ON\, M1K 2B5\, Canada
CATEGORIES:Wednesday Morning Services
ATTACH;FMTTYPE=image/jpeg:https://gracechurchscarborough.com/wp-content/uploads/2025/03/DSC5837.jpg
ORGANIZER;CN="Grace Church Scarborough":MAILTO:office@gracechurchscarborough.com
END:VEVENT
BEGIN:VEVENT
DTSTART;TZID=America/Toronto:20251108T120000
DTEND;TZID=America/Toronto:20251108T150000
DTSTAMP:20260419T094251
CREATED:20250315T214914Z
LAST-MODIFIED:20250407T160058Z
UID:10000009-1762603200-1762614000@gracechurchscarborough.com
SUMMARY:Community Lunch
DESCRIPTION:You’re Invited to Our Community Lunch! \nJoin us every second Saturday of the month at 12:00 PM for monthly Community Lunch at Grace Church!   \nWhether you’re a long-time neighbour or it’s your first time visiting\, there’s a place for you at our table. Come enjoy a hot\, delicious meal and good conversation in a relaxed and welcoming space. \nNo cost\, no registration—just come as you are.\nWe’d love to see you there!\nDonations are welcome! \n📍 Grace Church – 700 Kennedy Road\n🕛 Monthly\, every 2nd Saturday\, from 12-1pm \nAll are welcome!
URL:https://gracechurchscarborough.com/event/community-lunch/2025-11-08/
LOCATION:Grace Church\, Scarborough\, 700 Kennedy Road\, Scarborough\, ON\, M1K 2B5\, Canada
ATTACH;FMTTYPE=image/jpeg:https://gracechurchscarborough.com/wp-content/uploads/2025/03/DSC_4609.jpg
END:VEVENT
BEGIN:VEVENT
DTSTART;TZID=America/Toronto:20251109T100000
DTEND;TZID=America/Toronto:20251109T113000
DTSTAMP:20260419T094251
CREATED:20250315T221318Z
LAST-MODIFIED:20260313T005310Z
UID:10000562-1762682400-1762687800@gracechurchscarborough.com
SUMMARY:Sunday's Holy Eucharist Service
DESCRIPTION:At 10 a.m.\, the community gathers in our main worship space for an engaging service of Holy Eucharist\, with a variety of traditional and contemporary musical and liturgical expressions. The service follows the Book of Alternative Services.
URL:https://gracechurchscarborough.com/event/contemporary-communion-service/2025-11-09/
LOCATION:Grace Church\, Scarborough\, 700 Kennedy Road\, Scarborough\, ON\, M1K 2B5\, Canada
CATEGORIES:Sunday Morning Services
ATTACH;FMTTYPE=image/jpeg:https://gracechurchscarborough.com/wp-content/uploads/2025/03/DSC_4580.jpg
ORGANIZER;CN="Grace Church Scarborough":MAILTO:office@gracechurchscarborough.com
END:VEVENT
BEGIN:VEVENT
DTSTART;TZID=America/Toronto:20251112T110000
DTEND;TZID=America/Toronto:20251112T130000
DTSTAMP:20260419T094251
CREATED:20250315T215909Z
LAST-MODIFIED:20260313T011542Z
UID:10000097-1762945200-1762952400@gracechurchscarborough.com
SUMMARY:Mid-Week Holy Eucharist Service and Bible Study
DESCRIPTION:Refresh your spirit mid-week by joining in this a small\, prayerful communion service\, held in our side chapel\, using the Book of Alternative Services. \nJoin us for Bible Study following the service.
URL:https://gracechurchscarborough.com/event/mid-week-communion-service-and-bible-study/2025-11-12/
LOCATION:Grace Church\, Scarborough\, 700 Kennedy Road\, Scarborough\, ON\, M1K 2B5\, Canada
CATEGORIES:Wednesday Morning Services
ATTACH;FMTTYPE=image/jpeg:https://gracechurchscarborough.com/wp-content/uploads/2025/03/DSC5837.jpg
ORGANIZER;CN="Grace Church Scarborough":MAILTO:office@gracechurchscarborough.com
END:VEVENT
BEGIN:VEVENT
DTSTART;TZID=America/Toronto:20251116T100000
DTEND;TZID=America/Toronto:20251116T113000
DTSTAMP:20260419T094251
CREATED:20250315T221318Z
LAST-MODIFIED:20260313T005310Z
UID:10000569-1763287200-1763292600@gracechurchscarborough.com
SUMMARY:Sunday's Holy Eucharist Service
DESCRIPTION:At 10 a.m.\, the community gathers in our main worship space for an engaging service of Holy Eucharist\, with a variety of traditional and contemporary musical and liturgical expressions. The service follows the Book of Alternative Services.
URL:https://gracechurchscarborough.com/event/contemporary-communion-service/2025-11-16/
LOCATION:Grace Church\, Scarborough\, 700 Kennedy Road\, Scarborough\, ON\, M1K 2B5\, Canada
CATEGORIES:Sunday Morning Services
ATTACH;FMTTYPE=image/jpeg:https://gracechurchscarborough.com/wp-content/uploads/2025/03/DSC_4580.jpg
ORGANIZER;CN="Grace Church Scarborough":MAILTO:office@gracechurchscarborough.com
END:VEVENT
BEGIN:VEVENT
DTSTART;TZID=America/Toronto:20251119T110000
DTEND;TZID=America/Toronto:20251119T130000
DTSTAMP:20260419T094251
CREATED:20250315T215909Z
LAST-MODIFIED:20260313T011542Z
UID:10000098-1763550000-1763557200@gracechurchscarborough.com
SUMMARY:Mid-Week Holy Eucharist Service and Bible Study
DESCRIPTION:Refresh your spirit mid-week by joining in this a small\, prayerful communion service\, held in our side chapel\, using the Book of Alternative Services. \nJoin us for Bible Study following the service.
URL:https://gracechurchscarborough.com/event/mid-week-communion-service-and-bible-study/2025-11-19/
LOCATION:Grace Church\, Scarborough\, 700 Kennedy Road\, Scarborough\, ON\, M1K 2B5\, Canada
CATEGORIES:Wednesday Morning Services
ATTACH;FMTTYPE=image/jpeg:https://gracechurchscarborough.com/wp-content/uploads/2025/03/DSC5837.jpg
ORGANIZER;CN="Grace Church Scarborough":MAILTO:office@gracechurchscarborough.com
END:VEVENT
BEGIN:VEVENT
DTSTART;TZID=America/Toronto:20251123T100000
DTEND;TZID=America/Toronto:20251123T113000
DTSTAMP:20260419T094251
CREATED:20250315T221318Z
LAST-MODIFIED:20260313T005310Z
UID:10000576-1763892000-1763897400@gracechurchscarborough.com
SUMMARY:Sunday's Holy Eucharist Service
DESCRIPTION:At 10 a.m.\, the community gathers in our main worship space for an engaging service of Holy Eucharist\, with a variety of traditional and contemporary musical and liturgical expressions. The service follows the Book of Alternative Services.
URL:https://gracechurchscarborough.com/event/contemporary-communion-service/2025-11-23/
LOCATION:Grace Church\, Scarborough\, 700 Kennedy Road\, Scarborough\, ON\, M1K 2B5\, Canada
CATEGORIES:Sunday Morning Services
ATTACH;FMTTYPE=image/jpeg:https://gracechurchscarborough.com/wp-content/uploads/2025/03/DSC_4580.jpg
ORGANIZER;CN="Grace Church Scarborough":MAILTO:office@gracechurchscarborough.com
END:VEVENT
BEGIN:VEVENT
DTSTART;TZID=America/Toronto:20251126T110000
DTEND;TZID=America/Toronto:20251126T130000
DTSTAMP:20260419T094251
CREATED:20250315T215909Z
LAST-MODIFIED:20260313T011542Z
UID:10000099-1764154800-1764162000@gracechurchscarborough.com
SUMMARY:Mid-Week Holy Eucharist Service and Bible Study
DESCRIPTION:Refresh your spirit mid-week by joining in this a small\, prayerful communion service\, held in our side chapel\, using the Book of Alternative Services. \nJoin us for Bible Study following the service.
URL:https://gracechurchscarborough.com/event/mid-week-communion-service-and-bible-study/2025-11-26/
LOCATION:Grace Church\, Scarborough\, 700 Kennedy Road\, Scarborough\, ON\, M1K 2B5\, Canada
CATEGORIES:Wednesday Morning Services
ATTACH;FMTTYPE=image/jpeg:https://gracechurchscarborough.com/wp-content/uploads/2025/03/DSC5837.jpg
ORGANIZER;CN="Grace Church Scarborough":MAILTO:office@gracechurchscarborough.com
END:VEVENT
BEGIN:VEVENT
DTSTART;TZID=America/Toronto:20251130T100000
DTEND;TZID=America/Toronto:20251130T113000
DTSTAMP:20260419T094251
CREATED:20250315T221318Z
LAST-MODIFIED:20260313T005310Z
UID:10000583-1764496800-1764502200@gracechurchscarborough.com
SUMMARY:Sunday's Holy Eucharist Service
DESCRIPTION:At 10 a.m.\, the community gathers in our main worship space for an engaging service of Holy Eucharist\, with a variety of traditional and contemporary musical and liturgical expressions. The service follows the Book of Alternative Services.
URL:https://gracechurchscarborough.com/event/contemporary-communion-service/2025-11-30/
LOCATION:Grace Church\, Scarborough\, 700 Kennedy Road\, Scarborough\, ON\, M1K 2B5\, Canada
CATEGORIES:Sunday Morning Services
ATTACH;FMTTYPE=image/jpeg:https://gracechurchscarborough.com/wp-content/uploads/2025/03/DSC_4580.jpg
ORGANIZER;CN="Grace Church Scarborough":MAILTO:office@gracechurchscarborough.com
END:VEVENT
END:VCALENDAR